BEGIN:VCALENDAR
VERSION:2.0
BEGIN:VEVENT
URL:https://www.marche-nordique.net/calendrier/viewevent/152-la-randomelette-2013 
DTSTART:20130505T073000
DTEND:20130505T100000
SUMMARY:LA RAND'OMELETTE 2013
DESCRIPTION:<p>
	<strong>A</strong>mis cyclotouristes et vététistes : à vos guidons ; pédestres : à vos baskets. Ne vous prenez pas la tête, venez faire la causette sur les circuits de la Rand'Omelette, la randonnée à la bonne franquette ! ! le 5 mai 2013</p>
<p>
	Les amateurs de campagne et chemins champêtres seront comblés, 100% nature, difficile de résister à la Rand'Omelette entre pâturages et chemins pittoresques. Manifestation exceptionnelle qui rassemble plus de 3000 participants.....</p>
<p>
	<strong><em><u>Circuits entièrement nouveaux pour les pédestres.</u></em></strong></p>
<p>
	                  Pédestres : quel que soit votre choix 8, 13, 18 ou 25 km, nous avons préparé spécialement pour vous des itinéraires comptant plus de 80 % de chemins campagnards. Vous marcherez entre étangs, ruisseaux et haies bocagères, et ce sera l&rsquo;occasion de vous immerger, l&rsquo;espace d&rsquo;une matinée dans ce milieu vivifiant au moment ou renaît la nature.</p>
LOCATION:44190 SAINT-HILAIRE DE CLISSON
END:VEVENT
END:VCALENDAR