BEGIN:VCALENDAR
VERSION:2.0
BEGIN:VEVENT
URL:https://www.marche-nordique.net/calendrier/viewevent/192-3eme-edition-marche-nordique 
DTSTART:20130407T084500
DTEND:20130407T130000
SUMMARY:3ème édition marche nordique
DESCRIPTION:
LOCATION:Vénissieux
END:VEVENT
END:VCALENDAR