BEGIN:VCALENDAR
VERSION:2.0
BEGIN:VEVENT
URL:https://www.marche-nordique.net/calendrier/viewevent/236-nordique-marathon-vert-rennes35 
DTSTART:20131103T090000
DTEND:20131103T130000
SUMMARY:Nordique Marathon Vert RENNES(35)
DESCRIPTION:
LOCATION:RENNES
END:VEVENT
END:VCALENDAR