BEGIN:VCALENDAR
VERSION:2.0
BEGIN:VEVENT
URL:https://www.marche-nordique.net/calendrier/viewevent/237-1er-trail-moyenne-vilaine-a-semnon 
DTSTART:20131111T190000
DTEND:20131111T190000
SUMMARY:1er Trail  Moyenne Vilaine & Semnon
DESCRIPTION:
LOCATION:ERCE EN LAMEE & TEILLAY (35) limite (44)
END:VEVENT
END:VCALENDAR