BEGIN:VCALENDAR
VERSION:2.0
BEGIN:VEVENT
URL:https://www.marche-nordique.net/calendrier/viewevent/239-eco-trail-de-paris-75 
DTSTART:20140329T080000
DTEND:20140330T190000
SUMMARY:ECO TRAIL DE PARIS (75)
DESCRIPTION:
LOCATION:PARIS (75)
END:VEVENT
END:VCALENDAR