BEGIN:VCALENDAR
VERSION:2.0
BEGIN:VEVENT
URL:https://www.marche-nordique.net/calendrier/viewevent/284-defis-de-cancale-35 
DTSTART:20140302T093000
DTEND:20140302T120000
SUMMARY:Défis de Cancale (35)
DESCRIPTION:
LOCATION:Cancale (35)
END:VEVENT
END:VCALENDAR