BEGIN:VCALENDAR
VERSION:2.0
BEGIN:VEVENT
URL:https://www.marche-nordique.net/calendrier/viewevent/293-nordique-trail-muco-du-pays-de-vitre-35 
DTSTART:20141004T090000
DTEND:20141004T134500
SUMMARY:Nordique Trail Muco du pays de Vitré (35)
DESCRIPTION:
LOCATION:La Chapelle Erbrée
END:VEVENT
END:VCALENDAR