BEGIN:VCALENDAR
VERSION:2.0
BEGIN:VEVENT
URL:https://www.marche-nordique.net/calendrier/viewevent/294-28k-ultra-marin-56 
DTSTART:20140628T113000
DTEND:20140628T183000
SUMMARY:28k Ultra Marin (56)
DESCRIPTION:
LOCATION:Vannes (56)
END:VEVENT
END:VCALENDAR