BEGIN:VCALENDAR
VERSION:2.0
BEGIN:VEVENT
URL:https://www.marche-nordique.net/calendrier/viewevent/298-18k-sportiviales-de-vitre-35 
DTSTART:20140427T093000
DTEND:20140427T120000
SUMMARY:18k Sportiviales de Vitré (35)
DESCRIPTION:
LOCATION:Vitré (35)
END:VEVENT
END:VCALENDAR