BEGIN:VCALENDAR
VERSION:2.0
BEGIN:VEVENT
URL:https://www.marche-nordique.net/calendrier/viewevent/301-trail-glazig 
DTSTART:20140208T160000
DTEND:20140209T150000
SUMMARY:Trail-Glazig
DESCRIPTION:
LOCATION:Plourhan
END:VEVENT
END:VCALENDAR