BEGIN:VCALENDAR
VERSION:2.0
BEGIN:VEVENT
URL:https://www.marche-nordique.net/calendrier/viewevent/314-challenge-nordique-de-bretagne-22293556 
DTSTART:20140302T070000
DTEND:20141031T070000
SUMMARY:Challenge Nordique de Bretagne (22;29;35;56)
DESCRIPTION:
LOCATION:Bretagne 4 départements
END:VEVENT
END:VCALENDAR