BEGIN:VCALENDAR
VERSION:2.0
BEGIN:VEVENT
URL:https://www.marche-nordique.net/calendrier/viewevent/318-nordic-trail-laignelet-35 
DTSTART:20140706T090000
DTEND:20140706T130000
SUMMARY:Nordic Trail Laignelet (35)
DESCRIPTION:
LOCATION:Laignelet
END:VEVENT
END:VCALENDAR