BEGIN:VCALENDAR
VERSION:2.0
BEGIN:VEVENT
URL:https://www.marche-nordique.net/calendrier/viewevent/319-marathon-vert-de-rennes-35 
DTSTART:20141026T090000
DTEND:20141026T120000
SUMMARY:Marathon Vert de RENNES (35)
DESCRIPTION:
LOCATION:RENNES (35)
END:VEVENT
END:VCALENDAR