BEGIN:VCALENDAR
VERSION:2.0
BEGIN:VEVENT
URL:https://www.marche-nordique.net/calendrier/viewevent/320-4eme-rallye-du-sillon-st-malo-35 
DTSTART:20140322T130000
DTEND:20140322T180000
SUMMARY:4ème rallye du sillon (st Malo 35)
DESCRIPTION:<p>
	<em>Le premier départ collectif se fera à 13 h précises sur la plage de l&rsquo;éventail, face au  fort national.</em></p>
<p>
	<em>Inscriptions à envoyer avant le 15 mars. </em><a href="mailto:marchenordiquedemeraude@orange.fr">marchenordiquedemeraude@orange.fr</a>  tél 0677109671 </p>
LOCATION:Saint Malo 35
END:VEVENT
END:VCALENDAR