BEGIN:VCALENDAR
VERSION:2.0
BEGIN:VEVENT
URL:https://www.marche-nordique.net/calendrier/viewevent/326-4eme-edition-qmarche-nordiqueq-sur-le-plateau-des-grandes-terres 
DTSTART:20140406T090000
DTEND:20140406T130000
SUMMARY:4ème édition "marche nordique" sur le plateau des Grandes Terres
DESCRIPTION:
LOCATION:Vénissieux
END:VEVENT
END:VCALENDAR