BEGIN:VCALENDAR
VERSION:2.0
BEGIN:VEVENT
URL:https://www.marche-nordique.net/calendrier/viewevent/383-challenge-nordique-bretagne-2015 
DTSTART:20141214T200000
DTEND:20151101T200000
SUMMARY:Challenge Nordique Bretagne 2015
DESCRIPTION:
LOCATION:Divers ville
END:VEVENT
END:VCALENDAR