BEGIN:VCALENDAR
VERSION:2.0
BEGIN:VEVENT
URL:https://www.marche-nordique.net/calendrier/viewevent/397-5eme-edition-marche-nordique-a-venissieux-sur-le-plateau-des-grandes-terres 
DTSTART:20150329T090000
DTEND:20150329T120000
SUMMARY:5EME EDITION MARCHE NORDIQUE A VENISSIEUX SUR LE PLATEAU DES GRANDES TERRES
DESCRIPTION:
LOCATION:Vénissieux
END:VEVENT
END:VCALENDAR