BEGIN:VCALENDAR
VERSION:2.0
BEGIN:VEVENT
URL:https://www.marche-nordique.net/calendrier/viewevent/53-stage-marche-nordique 
DTSTART:20120512T160000
DTEND:20120514T000000
SUMMARY:Stage Marche Nordique
DESCRIPTION:Venez participer à notre stage marche nordique dans le revermont (prés de bourg en bresse), nous vous proposerons une sortie nocturne, des séances techniques et d'amélioration de la technique respiratoire, ainsi qu'une sortie à la journée.<br />Vous serez encadré par deux coachs athlé santé.<br />Coût du stage : 50 euros (hébergement non inclus)<br />Renseignements et inscriptions : rey.stephane@planentrainement.com
LOCATION:Bourg en Bresse
END:VEVENT
END:VCALENDAR